BEGIN:VCALENDAR
VERSION:2.0
PRODID:icalendar-ruby
CALSCALE:GREGORIAN
METHOD:PUBLISH
BEGIN:VEVENT
DTSTAMP:20260421T084528Z
UID:5-857561@bigbeebc.com
DTSTART:20260329T160000Z
DTEND:20260329T170000Z
CLASS:PUBLIC
CREATED:20260420T191455
DESCRIPTION:Sunday Worship
LAST-MODIFIED:20260420T191455
LOCATION:
SUMMARY:Sunday Worship
URL;VALUE=URI:https://www.bigbeebc.com/events/sunday-worship/2026-03-29
END:VEVENT
END:VCALENDAR
